BEGIN:VCALENDAR
VERSION:2.0
PRODID:-//Skara Stadshotell - ECPv6.15.20//NONSGML v1.0//EN
CALSCALE:GREGORIAN
METHOD:PUBLISH
X-WR-CALNAME:Skara Stadshotell
X-ORIGINAL-URL:https://skarastadshotell.se
X-WR-CALDESC:Händelser för Skara Stadshotell
REFRESH-INTERVAL;VALUE=DURATION:PT1H
X-Robots-Tag:noindex
X-PUBLISHED-TTL:PT1H
BEGIN:VTIMEZONE
TZID:Europe/Stockholm
BEGIN:DAYLIGHT
TZOFFSETFROM:+0100
TZOFFSETTO:+0200
TZNAME:CEST
DTSTART:20220327T010000
END:DAYLIGHT
BEGIN:STANDARD
TZOFFSETFROM:+0200
TZOFFSETTO:+0100
TZNAME:CET
DTSTART:20221030T010000
END:STANDARD
BEGIN:DAYLIGHT
TZOFFSETFROM:+0100
TZOFFSETTO:+0200
TZNAME:CEST
DTSTART:20230326T010000
END:DAYLIGHT
BEGIN:STANDARD
TZOFFSETFROM:+0200
TZOFFSETTO:+0100
TZNAME:CET
DTSTART:20231029T010000
END:STANDARD
BEGIN:DAYLIGHT
TZOFFSETFROM:+0100
TZOFFSETTO:+0200
TZNAME:CEST
DTSTART:20240331T010000
END:DAYLIGHT
BEGIN:STANDARD
TZOFFSETFROM:+0200
TZOFFSETTO:+0100
TZNAME:CET
DTSTART:20241027T010000
END:STANDARD
END:VTIMEZONE
BEGIN:VEVENT
DTSTART;VALUE=DATE:20230602
DTEND;VALUE=DATE:20230603
DTSTAMP:20260425T130315
CREATED:20230504T122155Z
LAST-MODIFIED:20230526T132542Z
UID:10000166-1685664000-1685750399@skarastadshotell.se
SUMMARY:Fredagsfeeling
DESCRIPTION:Fånga fredagsfeelingen och ge dig själv en underbar start på helgen på Skara Stadshotells uteservering den 2 juni! \nVi är mer än glada att kunna erbjuda dig en fantastisk upplevelse med läcker mat\, uppfriskande drinkar och livemusik som kommer att sätta tonen för en perfekt kväll. \nVår uteservering är det ultimata stället att koppla av och njuta av den härliga atmosfären. Medan du slår dig ner och tar in de vackra omgivningarna\, kommer vår live-pianist att skapa en stämningsfull och avkopplande musikalisk resa. \nSå ta med dig dina vänner eller din familj och förena er med oss på Skara Stadshotell den 2 juni. \nVi ser fram emot att välkomna dig- vi ses där! \n(Med reservation på ändringar). \n 
URL:https://skarastadshotell.se/events/fredagsfeeling-4/
LOCATION:Skara Stadshotell\, Järnvägsgatan 5\, Skara\, 532 30\, Sverige
CATEGORIES:På gång
ATTACH;FMTTYPE=image/png:https://skarastadshotell.se/wp-content/uploads/2023/05/fredagsfeeling-2-juni.png
ORGANIZER;CN="Skara Stadshotell":MAILTO:info.skarastadt@julahotell.se
END:VEVENT
BEGIN:VEVENT
DTSTART;VALUE=DATE:20230528
DTEND;VALUE=DATE:20230529
DTSTAMP:20260425T130315
CREATED:20230222T170344Z
LAST-MODIFIED:20230418T140423Z
UID:10000126-1685232000-1685318399@skarastadshotell.se
SUMMARY:Morsdag
DESCRIPTION:I restaurangen kommer det serveras buffé\, kaffe och tårta för 425 kr/person. Erbjudandet gäller mellan 12-16.
URL:https://skarastadshotell.se/events/morsdag/
LOCATION:Skara Stadshotell\, Järnvägsgatan 5\, Skara\, 532 30\, Sverige
CATEGORIES:På gång,Skara Stadshotell
ATTACH;FMTTYPE=image/jpeg:https://skarastadshotell.se/wp-content/uploads/2022/04/2022-03-31-skara-stadshotell-restaurangpersonal-in-action-4.jpg
ORGANIZER;CN="Skara Stadshotell":MAILTO:info.skarastadt@julahotell.se
END:VEVENT
BEGIN:VEVENT
DTSTART;VALUE=DATE:20230526
DTEND;VALUE=DATE:20230527
DTSTAMP:20260425T130315
CREATED:20230403T063610Z
LAST-MODIFIED:20230406T115715Z
UID:10000139-1685059200-1685145599@skarastadshotell.se
SUMMARY:ABBA Tribute Show
DESCRIPTION:ABBA TRIBUTE SHOW \nDen 26 maj öppnar vi upp Skara Stadshotells Kongresshall för ännu ett festligt event! Denna gång blir det inget mindre än krogshow med 2-rätters middag! \nMinglet kommer att börja 17.30 på hotellet och sedan serveras förrätten klockan 19.00 under tiden som du njuter av showen (viktigt att sitta till bords 19.00). \nBoka din biljett här: https://billetto.se/e/abba-tribute-show-pa-skara-stadshotell-biljetter-819867\nPlats: Skara Kongress\nTid: 17:30 \nProgram:\nMinglet startar 17.30\nFörrätten serveras 19.00\nShowen slutar ca 22:00\nVi stänger 01:00 \n*All dryck köps i baren under detta event (självklart serverar vi även alkoholfria alternativ)\n*Ålder 18 + \nBiljettpris – 765:- inkl tvårätters middag\, show & serviceavgift \n*Återköp endast vid inställt evenemang. Avgift från biljettleverantör återbetalas ej.\n*Med reservation för förändringar
URL:https://skarastadshotell.se/events/abba-tribute-show/
LOCATION:Skara Stadshotell\, Järnvägsgatan 5\, Skara\, 532 30\, Sverige
CATEGORIES:På gång
ATTACH;FMTTYPE=image/png:https://skarastadshotell.se/wp-content/uploads/2023/04/hemsida-abba-pylon.png
ORGANIZER;CN="Skara Stadshotell":MAILTO:info.skarastadt@julahotell.se
END:VEVENT
BEGIN:VEVENT
DTSTART;VALUE=DATE:20230519
DTEND;VALUE=DATE:20230520
DTSTAMP:20260425T130315
CREATED:20230504T121959Z
LAST-MODIFIED:20230504T122607Z
UID:10000165-1684454400-1684540799@skarastadshotell.se
SUMMARY:Fredagsfeeling
DESCRIPTION:Vi ser framemot att servera er härlig mat och bjuda på goda drinkar! Njut från 17.00-21.00 med ditt sällskap i vacker miljö av musikunderhållning! Självklart finns det även alkoholfria alternativ för de som önskar. Vi ses väl? \nFör att boka ring ; 0511 24050 eller maila; info.skarastadt@julahotell.se. \n(Mer reservation för ändringar)
URL:https://skarastadshotell.se/events/fredagsfeeling-3/
LOCATION:Skara Stadshotell\, Järnvägsgatan 5\, Skara\, 532 30\, Sverige
CATEGORIES:På gång
ATTACH;FMTTYPE=image/png:https://skarastadshotell.se/wp-content/uploads/2023/05/fredagsfeeling-19-maj.png
ORGANIZER;CN="Skara Stadshotell":MAILTO:info.skarastadt@julahotell.se
END:VEVENT
BEGIN:VEVENT
DTSTART;VALUE=DATE:20230512
DTEND;VALUE=DATE:20230513
DTSTAMP:20260425T130316
CREATED:20230504T121654Z
LAST-MODIFIED:20230504T122429Z
UID:10000164-1683849600-1683935999@skarastadshotell.se
SUMMARY:Fredagsfeeling
DESCRIPTION:Vi ser framemot att servera er härlig mat och bjuda på goda drinkar! Njut från 17.00-21.00 med ditt sällskap i vacker miljö av musikunderhållning! Självklart finns det även alkoholfria alternativ för de som önskar. Vi ses väl? \nFör att boka ring ; 0511 24050 eller maila; info.skarastadt@julahotell.se. \n(Mer reservation för ändringar)
URL:https://skarastadshotell.se/events/fredagsfeeling-2/
LOCATION:Skara Stadshotell\, Järnvägsgatan 5\, Skara\, 532 30\, Sverige
CATEGORIES:På gång
ATTACH;FMTTYPE=image/png:https://skarastadshotell.se/wp-content/uploads/2023/05/fredagsfeeling-12-maj.png
ORGANIZER;CN="Skara Stadshotell":MAILTO:info.skarastadt@julahotell.se
END:VEVENT
BEGIN:VEVENT
DTSTART;TZID=Europe/Stockholm:20230428T180000
DTEND;TZID=Europe/Stockholm:20230428T203000
DTSTAMP:20260425T130316
CREATED:20230302T085442Z
LAST-MODIFIED:20230427T142620Z
UID:10000136-1682704800-1682713800@skarastadshotell.se
SUMMARY:Myra Granberg i Kongresshallen
DESCRIPTION:MYRA GRANBERG + TUVA!  \n\nDen 28 april välkomnar vi upp Myra Granberg på scenen i vår kongresshall. Denna kväll kommer även Myra ha med sig artisten TUVA som ersätter Lancelot.\n\n\nMyra Granberg\, som under senaste åren har fångat publikens hjärtan\, fortsätter klättra upp allt högre på Sveriges artisthimmel. Sedan Myra slog igenom år 2019 har succén varit ett faktum.\n\n\n\nTUVA\n19 åriga pop-tillskottet Tuva Sundborn har spelat piano\, sjungit och dansat sen barnsben.\n\n\nTUVA skapar modern och opolerad alternativ-pop på svenska. I centrum står lekfullt paketerade anekdoter med en närvarande underton av ungdomligt vemod. Charmigt eget och kontrastrikt energiskt blinkar soundet inte sällan åt 00-talets kammande indierock.\n\n\n\n*Åldersgräns 13 år\n\n\n\nProgramtider\n18.00 Dörrarna öppnar\n19:00 TUVA\n19:45 Myra Granberg\n20:30 Slut\n\n\nErbjudande i restaurangen denna kväll: Eventbuffé och 1 glas vin eller 1 glas öl- 375 kronor\, självklart finns det även alkoholfria alternativ.\n\n⠀⠀⠀⠀⠀⠀\nEarly bird erbjudande gäller från 10/3 till 24/3 eller tills biljetterna tar slut. Därefter gäller ordinarie pris.\n⠀⠀⠀⠀⠀⠀\nÅterköp endast vid inställt evenemang. Avgift från biljettleverantör återbetalas ej.\n*Med reservation för förändringar\n⠀⠀⠀⠀⠀⠀\nHoppas vi ses!
URL:https://skarastadshotell.se/events/myra-granberg-i-kongresshallen/
LOCATION:Skara Stadshotell\, Järnvägsgatan 5\, Skara\, 532 30\, Sverige
CATEGORIES:På gång,Skara Stadshotell
ATTACH;FMTTYPE=image/png:https://skarastadshotell.se/wp-content/uploads/2023/03/myra-hemsida.png
ORGANIZER;CN="Skara Stadshotell":MAILTO:info.skarastadt@julahotell.se
END:VEVENT
BEGIN:VEVENT
DTSTART;VALUE=DATE:20230416
DTEND;VALUE=DATE:20230417
DTSTAMP:20260425T130316
CREATED:20230222T164443Z
LAST-MODIFIED:20230405T102633Z
UID:10000116-1681603200-1681689599@skarastadshotell.se
SUMMARY:Orphei Drängar Kongressen
DESCRIPTION:Vart välkommen den 16 april klockan 16.00 då Orphei Drängar\, en av Sveriges största manskörer\, sjunger hos oss. Dirigent denna dag är Cecilia Rydinger. \n  \nErbjudande i restaurangen: \nLördag: \n175 kr per rätt (serveras mellan kl. 12-22) \nPestopanerad bleka med sandefjordsås och rostad potatis \nMozzarella- och pestofylld kycklingfile med rödvinssås och rostad potatis \nVegans linsgryta med rostad blomkål\, krispiga kikärtor samt ris \n  \nSöndag: \n150 kr per rätt (serveras mellan kl. 12-19) \nPestopanerad bleka med sandefjordsås och rostad potatis \nMozzarella- och pestofylld kycklingfile med rödvinssås och rostad potatis \nVegans linsgryta med rostad blomkål\, krispiga kikärtor samt ris \n  \nBoka biljett här\nVarmt välkomna!
URL:https://skarastadshotell.se/events/orphei-drangar-kongressen/
LOCATION:Skara Stadshotell\, Järnvägsgatan 5\, Skara\, 532 30\, Sverige
CATEGORIES:På gång,Skara Stadshotell
ATTACH;FMTTYPE=image/jpeg:https://skarastadshotell.se/wp-content/uploads/2023/02/od-bild-scaled.jpg
ORGANIZER;CN="Skara Stadshotell":MAILTO:info.skarastadt@julahotell.se
END:VEVENT
BEGIN:VEVENT
DTSTART;VALUE=DATE:20230414
DTEND;VALUE=DATE:20230415
DTSTAMP:20260425T130316
CREATED:20230222T143934Z
LAST-MODIFIED:20230331T101432Z
UID:10000135-1681430400-1681516799@skarastadshotell.se
SUMMARY:Fredagsfeeling
DESCRIPTION:Äntligen! Den 14 april är ni välkomna till hotellet då vi höjer musiken och ger en härlig lounge-stämning för alla gäster. Till alla ”drink-lovers” vi kommer servera goda drinkar hela kvällen och alkoholfria alternativ finns självklart för de som önskar! \nMed start 17.00.
URL:https://skarastadshotell.se/events/fredagsfeeling/2023-04-14/
LOCATION:Skara Stadshotell\, Järnvägsgatan 5\, Skara\, 532 30\, Sverige
CATEGORIES:På gång,Skara Stadshotell
ATTACH;FMTTYPE=image/png:https://skarastadshotell.se/wp-content/uploads/2023/02/fredags-feeling-pylon.png
ORGANIZER;CN="Skara Stadshotell":MAILTO:info.skarastadt@julahotell.se
END:VEVENT
BEGIN:VEVENT
DTSTART;VALUE=DATE:20230413
DTEND;VALUE=DATE:20230414
DTSTAMP:20260425T130316
CREATED:20230403T131249Z
LAST-MODIFIED:20230405T102203Z
UID:10000140-1681344000-1681430399@skarastadshotell.se
SUMMARY:VINPROVNING MED 3-RÄTTERS MIDDAG
DESCRIPTION:Torsdagen den 13 april har vi på Skara Stadshotell en vinprovning tillsammans med Petter Alexis som går i Italiens tecken! Det blir vinprovning och middag under temat ”Piemonte”.\n⠀⠀⠀⠀⠀⠀⠀\nPetter Alexis kommer vara sommelier för kvällen och hålla i vinprovningen. Tillsammans med smakrika viner så serveras det en tre-rätters middag i italienskt tema- Piemonte. Boka och säkra era platser i tid för en lärorik och inspirerande kväll! Detta gör ni enkelt genom att ringa till oss på; 0511 240 50 eller maila till oss på; info.skarastadt@julahotell.se \n  \nMeny: \nKlassisk Carpaccio\, tunna skivor av sotad oxfilé\, med tryffelemultion\, selleri\, confiterad tomat samt surdegskrutong \nOssobuco di Piemontese\, bräserad kalvlägg med örter\, vin och fond. Krämig saffransrisotto toppad med parmesan \nBonet\, bakad italiensk chokladcremé med kola och amarettikex \n  \nViner: \nPetter har valt ut fem olika viner från Piemonte (både vitt och rött) som han berättar om och som serveras till maten. \n⠀⠀⠀⠀⠀⠀⠀\nPlats: Skara Stadshotell (restaurang Julia)\nTid: 19.00\nTema: Piemonte (vin & mat)\nSommelier: Petter\nAntal platser: 50\nPris: 1250 kronor person (middag\, vinprovning + vin till maten)
URL:https://skarastadshotell.se/events/vinprovning-med-3-ratters-middag/
LOCATION:Skara Stadshotell\, Järnvägsgatan 5\, Skara\, 532 30\, Sverige
CATEGORIES:På gång
ATTACH;FMTTYPE=image/png:https://skarastadshotell.se/wp-content/uploads/2023/04/hemsida-petter.png
ORGANIZER;CN="Skara Stadshotell":MAILTO:info.skarastadt@julahotell.se
END:VEVENT
BEGIN:VEVENT
DTSTART;VALUE=DATE:20230408
DTEND;VALUE=DATE:20230409
DTSTAMP:20260425T130316
CREATED:20230319T113935Z
LAST-MODIFIED:20230331T101438Z
UID:10000137-1680912000-1680998399@skarastadshotell.se
SUMMARY:Våfflor På Påskafton
DESCRIPTION:Den 8 april hoppas att vädret tillåter så vi tillsammans kan njuta i solen vid caféets uteservering. \nVårt erbjudande denna dag kommer vara våffla med tillbehör\, kaffe eller saft för 50 kronor vuxen och 25 kronor för barn. Erbjudandet serveras från klockan 10.00-14.00! \nHoppas vi ses!
URL:https://skarastadshotell.se/events/vafflor-pa-skara-stadshotell/
LOCATION:Skara Stadshotell\, Järnvägsgatan 5\, Skara\, 532 30\, Sverige
CATEGORIES:På gång,Skara Stadshotell
ATTACH;FMTTYPE=image/png:https://skarastadshotell.se/wp-content/uploads/2023/03/hemsida-stadt-vafflor.png
ORGANIZER;CN="Skara Stadshotell":MAILTO:info.skarastadt@julahotell.se
END:VEVENT
BEGIN:VEVENT
DTSTART;VALUE=DATE:20230407
DTEND;VALUE=DATE:20230411
DTSTAMP:20260425T130316
CREATED:20230331T115640Z
LAST-MODIFIED:20230331T121607Z
UID:10000138-1680825600-1681171199@skarastadshotell.se
SUMMARY:Fira påsk på hotellet!
DESCRIPTION:ÖPPETTIDER UNDER PÅSK I RESTAURANG JULIA\n⠀⠀⠀⠀⠀⠀\nSkärtorsdag:\nöppet med vanligt utbud\n⠀⠀⠀⠀⠀⠀\nLångfredag och Påskafton: \nhelglunch från 12.00 med påsk inspirerad meny – 1 förrätt och 2 varmrätter (kött/fisk)\n⠀⠀⠀⠀⠀⠀\nKlassiker från 15.00\n(allt finns fram till 20.00) \nPåskafton: \nVåffla med tillbehör\, kaffe eller saft för 50 kronor vuxen och 25 kronor för barn. Erbjudandet serveras från klockan 10.00-14.00 i fröken Ljungs Café\n⠀⠀⠀⠀⠀⠀\nPåskdagen och annandag påsk:\nhar vi öppet för frukost\, men stäng i restaurangen efteråt (öppettider för frukosten: mån-fre 6.30-9.30 och söndag 7.00-10.00) \nFröken Ljungs café har öppet som vanligt!\nVarmt välkomna!\n⠀⠀⠀⠀⠀⠀\nFör att boka ring ; 0511 24050 eller maila; info.skarastadt@julahotell.se
URL:https://skarastadshotell.se/events/fira-pask-pa-hotellet/
LOCATION:Skara Stadshotell\, Järnvägsgatan 5\, Skara\, 532 30\, Sverige
CATEGORIES:På gång
ATTACH;FMTTYPE=image/jpeg:https://skarastadshotell.se/wp-content/uploads/2022/04/2022-03-22-skara-stadshotell-resturang-6.jpg
ORGANIZER;CN="Skara Stadshotell":MAILTO:info.skarastadt@julahotell.se
END:VEVENT
BEGIN:VEVENT
DTSTART;VALUE=DATE:20230304
DTEND;VALUE=DATE:20230305
DTSTAMP:20260425T130316
CREATED:20230222T145731Z
LAST-MODIFIED:20230331T101433Z
UID:10000103-1677888000-1677974399@skarastadshotell.se
SUMMARY:Puss och kram i kongressen
DESCRIPTION:Lördagen den 4:e mars fortsätter succén ”Puss och Kram” med Magnus Betnér och Henrik Nyblom deras turné till oss i vår kongresshall! En färgstark resa längs hela humorspektrat. Lika delar galenskap som knivskarp satir. Stickspår utlovas!\n⠀⠀⠀⠀⠀⠀\nHenrik Nyblom är den snabbaste stigande raketen på den svenska humorhimlen. Träffsäker observationskomik blandas med det allra finaste av musikaliskt nonsens. Stage dives kan förekomma!\n⠀⠀⠀⠀⠀⠀\nI 25 år har Magnus Betnér som få andra pushat gränser och slitit för att göra svensk standup till vad den är idag. Puss & Kram är ett nytt kapitel inom svensk standup och som vanligt är Magnus där.\n⠀⠀⠀⠀⠀⠀\nDetta vill du inte missa!\n⠀⠀⠀⠀⠀\nBoka: https://secure.tickster.com/sv/tz7rdff0x951ltl/products\n⠀⠀⠀⠀⠀⠀\nTid: Start 19.00\n⠀⠀⠀⠀⠀⠀\nPlats: Kongresshallen \nFrån kl: 19.00
URL:https://skarastadshotell.se/events/puss-och-kram-i-kongressen/
LOCATION:Skara Stadshotell\, Järnvägsgatan 5\, Skara\, 532 30\, Sverige
CATEGORIES:På gång
ATTACH;FMTTYPE=image/png:https://skarastadshotell.se/wp-content/uploads/2023/02/puss-och-kram-pylon.png
ORGANIZER;CN="Skara Stadshotell":MAILTO:info.skarastadt@julahotell.se
END:VEVENT
BEGIN:VEVENT
DTSTART;VALUE=DATE:20230303
DTEND;VALUE=DATE:20230304
DTSTAMP:20260425T130316
CREATED:20230222T143934Z
LAST-MODIFIED:20230331T101432Z
UID:10000134-1677801600-1677887999@skarastadshotell.se
SUMMARY:Fredagsfeeling
DESCRIPTION:Äntligen! Den 14 april är ni välkomna till hotellet då vi höjer musiken och ger en härlig lounge-stämning för alla gäster. Till alla ”drink-lovers” vi kommer servera goda drinkar hela kvällen och alkoholfria alternativ finns självklart för de som önskar! \nMed start 17.00.
URL:https://skarastadshotell.se/events/fredagsfeeling/2023-03-03/
LOCATION:Skara Stadshotell\, Järnvägsgatan 5\, Skara\, 532 30\, Sverige
CATEGORIES:På gång,Skara Stadshotell
ATTACH;FMTTYPE=image/png:https://skarastadshotell.se/wp-content/uploads/2023/02/fredags-feeling-pylon.png
ORGANIZER;CN="Skara Stadshotell":MAILTO:info.skarastadt@julahotell.se
END:VEVENT
BEGIN:VEVENT
DTSTART;VALUE=DATE:20230225
DTEND;VALUE=DATE:20230226
DTSTAMP:20260425T130316
CREATED:20230202T102829Z
LAST-MODIFIED:20230331T101432Z
UID:10000108-1677283200-1677369599@skarastadshotell.se
SUMMARY:Skara Stadshotells ettårsdag firas tillsammans med Uno Svenningsson
DESCRIPTION:Ett år har nu snart passerat sen vi öppnade dörrarna på Skara Stadshotell – detta vill vi såklart fira tillsammans med er!\n⠀⠀⠀⠀⠀⠀\nDen 25 februari är ni välkomna till vår Kongresshall för att uppleva en minnesvärd show med ingen mindre än Uno Svenningsson! \nUno Svenningsson har varit artist i mer än halva sitt liv. Han är en av Sveriges mest respekterade låtskrivare och erkänd för sin unika röst.\n⠀⠀⠀⠀⠀\nGenom åren har Uno släppt ett tiotal album och flera populära singlar som Vågorna\, och efter sin medverkan i ”Så Mycket Bättre” 2017\, radiohiten” Du kommer ångra det här”. I samarbete med sin son Mark har singeln ”Bara få höra din röst” nått radiolistorna i år.\n⠀⠀⠀⠀⠀⠀\nSommaren 2023 åker han ut på turné med Gyllene Tider. Publiken kommer att få höra klassiska låtar från hela karriären och naturligtvis de nya från kommande album som släpps i juni.\n⠀⠀⠀⠀⠀⠀\nFör att fira in kvällen på bästa sätt med er har vi rabatterat pris på biljetten och vi kan lova att ni inte vill missa detta!\n⠀⠀⠀⠀⠀⠀\nInträde- 195 kronor + serviceavgift\n⠀⠀⠀⠀⠀⠀\nBoka (går att boka från och med den 3/2 kl. 10.00) – https://billetto.se/e/skara-stadthotells-ettarsdag-med-uno-svenningsson-biljetter-792618 \n⠀⠀⠀⠀⠀⠀\nKlockan- Slut cirka 20.00\n(boka bord efter genom att kontakta hotellet på; 0511 24050 eller maila till; info.skarastadt@julahotell.se)
URL:https://skarastadshotell.se/events/skara-stadshotells-ettarsdag-firas-tillsammans-med-uno-svenningsson/
LOCATION:Skara Stadshotell\, Järnvägsgatan 5\, Skara\, 532 30\, Sverige
CATEGORIES:På gång
ATTACH;FMTTYPE=image/png:https://skarastadshotell.se/wp-content/uploads/2023/02/hemsida-uno-svenningsson-ny.png
ORGANIZER;CN="Skara Stadshotell":MAILTO:info.skarastadt@julahotell.se
END:VEVENT
END:VCALENDAR